BEGIN:VCALENDAR
VERSION:2.0
PRODID:-//pretix//pretix.eu//
BEGIN:VTIMEZONE
TZID:Europe/Vienna
BEGIN:STANDARD
DTSTART:20001029T040000
RRULE:FREQ=YEARLY;BYDAY=-1SU;BYMONTH=10
TZNAME:CET
TZOFFSETFROM:+0200
TZOFFSETTO:+0100
END:STANDARD
BEGIN:DAYLIGHT
DTSTART:20000326T030000
RRULE:FREQ=YEARLY;BYDAY=-1SU;BYMONTH=3
TZNAME:CEST
TZOFFSETFROM:+0100
TZOFFSETTO:+0200
END:DAYLIGHT
END:VTIMEZONE
BEGIN:VEVENT
UID:pretix-kbp-konzert21122025-0@karten.kbp.at
DTSTART;TZID=Europe/Vienna:20251221T180000
DTEND;TZID=Europe/Vienna:20251221T190000
DESCRIPTION:Tickets: https://karten.kbp.at/konzert21122025/\nVeranstalter: 
 Kellerbühne Puchheim
DTSTAMP:20260425T131713Z
LOCATION:Kellerbühne Puchheim\, Unterbau der Basilika Puchheim\, Gmundner 
 Straße 3\, A-4800 Attnang-Puchheim
SUMMARY:Benefizkonzert: „Gute Töne zur Weihnachtszeit”
END:VEVENT
END:VCALENDAR
