BEGIN:VCALENDAR
VERSION:2.0
PRODID:-//pretix//pretix.eu//
BEGIN:VTIMEZONE
TZID:Europe/Vienna
BEGIN:STANDARD
DTSTART:20001029T040000
RRULE:FREQ=YEARLY;BYDAY=-1SU;BYMONTH=10
TZNAME:CET
TZOFFSETFROM:+0200
TZOFFSETTO:+0100
END:STANDARD
BEGIN:DAYLIGHT
DTSTART:20000326T030000
RRULE:FREQ=YEARLY;BYDAY=-1SU;BYMONTH=3
TZNAME:CEST
TZOFFSETFROM:+0100
TZOFFSETTO:+0200
END:DAYLIGHT
END:VTIMEZONE
BEGIN:VEVENT
UID:pretix-kbp-kirtag2025-0@karten.kbp.at
DTSTART;TZID=Europe/Vienna:20250913T093000
DTEND;TZID=Europe/Vienna:20250913T103000
DESCRIPTION:Tickets: https://karten.kbp.at/kirtag2025/\nEinlass: 13.09.2025
  09:00\nVeranstalter: Kellerbühne Puchheim
DTSTAMP:20260425T131628Z
LOCATION:Im Areal der Kellerbühne und des Puchheimer Schlosses\, Gmundner 
 Straße 1-3\, 4800 Attnang-Puchheim
SUMMARY:Theaterkirtag - 60 Jahre KBP
END:VEVENT
END:VCALENDAR
