BEGIN:VCALENDAR
VERSION:2.0
PRODID:-//pretix//pretix.eu//
BEGIN:VTIMEZONE
TZID:Europe/Vienna
BEGIN:STANDARD
DTSTART:20001029T040000
RRULE:FREQ=YEARLY;BYDAY=-1SU;BYMONTH=10
TZNAME:CET
TZOFFSETFROM:+0200
TZOFFSETTO:+0100
END:STANDARD
BEGIN:DAYLIGHT
DTSTART:20000326T030000
RRULE:FREQ=YEARLY;BYDAY=-1SU;BYMONTH=3
TZNAME:CEST
TZOFFSETFROM:+0100
TZOFFSETTO:+0200
END:DAYLIGHT
END:VTIMEZONE
BEGIN:VEVENT
UID:pretix-kbp-impro032026-0@karten.kbp.at
DTSTART;TZID=Europe/Vienna:20260327T193000
DTEND;TZID=Europe/Vienna:20260327T203000
DESCRIPTION:Tickets: https://karten.kbp.at/impro032026/\nVeranstalter: Kell
 erbühne Puchheim
DTSTAMP:20260419T121050Z
LOCATION:Kellerbühne Puchheim\, Unterbau der Basilika Puchheim\, Gmundner 
 Straße 3\, A-4800 Attnang-Puchheim
SUMMARY:Impro im März
END:VEVENT
BEGIN:VEVENT
UID:pretix-kbp-humorsapiens2025-0@karten.kbp.at
DTSTART;TZID=Europe/Vienna:20260410T193000
DTEND;TZID=Europe/Vienna:20260410T203000
DESCRIPTION:Tickets: https://karten.kbp.at/humorsapiens2025/\nVeranstalter:
  Kellerbühne Puchheim
DTSTAMP:20260419T121050Z
LOCATION:Kellerbühne Puchheim\, Unterbau der Basilika Puchheim\, Gmundner 
 Straße 3\, A-4800 Attnang-Puchheim
SUMMARY:Humorsapiens: Rettungstruppe des Altwiener-Nummernkabaretts kehrt z
 urück!
END:VEVENT
BEGIN:VEVENT
UID:pretix-kbp-impro042026-0@karten.kbp.at
DTSTART;TZID=Europe/Vienna:20260424T193000
DTEND;TZID=Europe/Vienna:20260424T203000
DESCRIPTION:Tickets: https://karten.kbp.at/impro042026/\nVeranstalter: Kell
 erbühne Puchheim
DTSTAMP:20260419T121050Z
LOCATION:Kellerbühne Puchheim\, Unterbau der Basilika Puchheim\, Gmundner 
 Straße 3\, A-4800 Attnang-Puchheim
SUMMARY:Impro im April
END:VEVENT
BEGIN:VEVENT
UID:pretix-kbp-WertgutscheinKBP-0@karten.kbp.at
DTSTART;VALUE=DATE:21250101
DTEND;VALUE=DATE:21250102
DESCRIPTION:Tickets: https://karten.kbp.at/WertgutscheinKBP/\nVeranstalter:
  Kellerbühne Puchheim
DTSTAMP:20260419T121050Z
LOCATION:Kellerbühne Puchheim\, Unterbau der Basilika Puchheim\, Gmundner 
 Straße 3\, A-4800 Attnang-Puchheim
SUMMARY:Gutschein KBP
END:VEVENT
BEGIN:VEVENT
UID:pretix-kbp-fmmw2026-4893482@karten.kbp.at
DTSTART;TZID=Europe/Vienna:20260529T193000
DTEND;TZID=Europe/Vienna:20260529T203000
DESCRIPTION:Tickets: https://karten.kbp.at/fmmw2026/4893482/\nEinlass: 29.0
 5.2026 18:30\nVeranstalter: Kellerbühne Puchheim
DTSTAMP:20260419T121050Z
LOCATION:Kellerbühne Puchheim\, Unterbau der Basilika Puchheim\, Gmundner 
 Straße 3\, A-4800 Attnang-Puchheim
SUMMARY:Frau Müller muss weg - Premiere
END:VEVENT
BEGIN:VEVENT
UID:pretix-kbp-fmmw2026-4893483@karten.kbp.at
DTSTART;TZID=Europe/Vienna:20260531T193000
DTEND;TZID=Europe/Vienna:20260531T203000
DESCRIPTION:Tickets: https://karten.kbp.at/fmmw2026/4893483/\nEinlass: 31.0
 5.2026 18:30\nVeranstalter: Kellerbühne Puchheim
DTSTAMP:20260419T121050Z
LOCATION:Kellerbühne Puchheim\, Unterbau der Basilika Puchheim\, Gmundner 
 Straße 3\, A-4800 Attnang-Puchheim
SUMMARY:Frau Müller muss weg
END:VEVENT
BEGIN:VEVENT
UID:pretix-kbp-fmmw2026-4893484@karten.kbp.at
DTSTART;TZID=Europe/Vienna:20260603T193000
DTEND;TZID=Europe/Vienna:20260603T203000
DESCRIPTION:Tickets: https://karten.kbp.at/fmmw2026/4893484/\nEinlass: 03.0
 6.2026 18:30\nVeranstalter: Kellerbühne Puchheim
DTSTAMP:20260419T121050Z
LOCATION:Kellerbühne Puchheim\, Unterbau der Basilika Puchheim\, Gmundner 
 Straße 3\, A-4800 Attnang-Puchheim
SUMMARY:Frau Müller muss weg
END:VEVENT
BEGIN:VEVENT
UID:pretix-kbp-fmmw2026-4893485@karten.kbp.at
DTSTART;TZID=Europe/Vienna:20260604T193000
DTEND;TZID=Europe/Vienna:20260604T203000
DESCRIPTION:Tickets: https://karten.kbp.at/fmmw2026/4893485/\nEinlass: 04.0
 6.2026 18:30\nVeranstalter: Kellerbühne Puchheim
DTSTAMP:20260419T121050Z
LOCATION:Kellerbühne Puchheim\, Unterbau der Basilika Puchheim\, Gmundner 
 Straße 3\, A-4800 Attnang-Puchheim
SUMMARY:Frau Müller muss weg
END:VEVENT
BEGIN:VEVENT
UID:pretix-kbp-fmmw2026-4893486@karten.kbp.at
DTSTART;TZID=Europe/Vienna:20260606T193000
DTEND;TZID=Europe/Vienna:20260606T203000
DESCRIPTION:Tickets: https://karten.kbp.at/fmmw2026/4893486/\nEinlass: 06.0
 6.2026 18:30\nVeranstalter: Kellerbühne Puchheim
DTSTAMP:20260419T121050Z
LOCATION:Kellerbühne Puchheim\, Unterbau der Basilika Puchheim\, Gmundner 
 Straße 3\, A-4800 Attnang-Puchheim
SUMMARY:Frau Müller muss weg
END:VEVENT
BEGIN:VEVENT
UID:pretix-kbp-fmmw2026-4893487@karten.kbp.at
DTSTART;TZID=Europe/Vienna:20260609T193000
DTEND;TZID=Europe/Vienna:20260609T203000
DESCRIPTION:Tickets: https://karten.kbp.at/fmmw2026/4893487/\nEinlass: 09.0
 6.2026 18:30\nVeranstalter: Kellerbühne Puchheim
DTSTAMP:20260419T121050Z
LOCATION:Kellerbühne Puchheim\, Unterbau der Basilika Puchheim\, Gmundner 
 Straße 3\, A-4800 Attnang-Puchheim
SUMMARY:Frau Müller muss weg
END:VEVENT
BEGIN:VEVENT
UID:pretix-kbp-fmmw2026-4893488@karten.kbp.at
DTSTART;TZID=Europe/Vienna:20260611T193000
DTEND;TZID=Europe/Vienna:20260611T203000
DESCRIPTION:Tickets: https://karten.kbp.at/fmmw2026/4893488/\nEinlass: 11.0
 6.2026 18:30\nVeranstalter: Kellerbühne Puchheim
DTSTAMP:20260419T121050Z
LOCATION:Kellerbühne Puchheim\, Unterbau der Basilika Puchheim\, Gmundner 
 Straße 3\, A-4800 Attnang-Puchheim
SUMMARY:Frau Müller muss weg
END:VEVENT
BEGIN:VEVENT
UID:pretix-kbp-fmmw2026-4893489@karten.kbp.at
DTSTART;TZID=Europe/Vienna:20260612T193000
DTEND;TZID=Europe/Vienna:20260612T203000
DESCRIPTION:Tickets: https://karten.kbp.at/fmmw2026/4893489/\nEinlass: 12.0
 6.2026 18:30\nVeranstalter: Kellerbühne Puchheim
DTSTAMP:20260419T121050Z
LOCATION:Kellerbühne Puchheim\, Unterbau der Basilika Puchheim\, Gmundner 
 Straße 3\, A-4800 Attnang-Puchheim
SUMMARY:Frau Müller muss weg
END:VEVENT
BEGIN:VEVENT
UID:pretix-kbp-fmmw2026-4893490@karten.kbp.at
DTSTART;TZID=Europe/Vienna:20260614T193000
DTEND;TZID=Europe/Vienna:20260614T203000
DESCRIPTION:Tickets: https://karten.kbp.at/fmmw2026/4893490/\nEinlass: 14.0
 6.2026 18:30\nVeranstalter: Kellerbühne Puchheim
DTSTAMP:20260419T121050Z
LOCATION:Kellerbühne Puchheim\, Unterbau der Basilika Puchheim\, Gmundner 
 Straße 3\, A-4800 Attnang-Puchheim
SUMMARY:Frau Müller muss weg
END:VEVENT
BEGIN:VEVENT
UID:pretix-kbp-fmmw2026-4893491@karten.kbp.at
DTSTART;TZID=Europe/Vienna:20260616T193000
DTEND;TZID=Europe/Vienna:20260616T203000
DESCRIPTION:Tickets: https://karten.kbp.at/fmmw2026/4893491/\nEinlass: 16.0
 6.2026 18:30\nVeranstalter: Kellerbühne Puchheim
DTSTAMP:20260419T121050Z
LOCATION:Kellerbühne Puchheim\, Unterbau der Basilika Puchheim\, Gmundner 
 Straße 3\, A-4800 Attnang-Puchheim
SUMMARY:Frau Müller muss weg
END:VEVENT
BEGIN:VEVENT
UID:pretix-kbp-fmmw2026-4893492@karten.kbp.at
DTSTART;TZID=Europe/Vienna:20260618T193000
DTEND;TZID=Europe/Vienna:20260618T203000
DESCRIPTION:Tickets: https://karten.kbp.at/fmmw2026/4893492/\nEinlass: 18.0
 6.2026 18:30\nVeranstalter: Kellerbühne Puchheim
DTSTAMP:20260419T121050Z
LOCATION:Kellerbühne Puchheim\, Unterbau der Basilika Puchheim\, Gmundner 
 Straße 3\, A-4800 Attnang-Puchheim
SUMMARY:Frau Müller muss weg
END:VEVENT
BEGIN:VEVENT
UID:pretix-kbp-fmmw2026-4893493@karten.kbp.at
DTSTART;TZID=Europe/Vienna:20260619T193000
DTEND;TZID=Europe/Vienna:20260619T203000
DESCRIPTION:Tickets: https://karten.kbp.at/fmmw2026/4893493/\nEinlass: 19.0
 6.2026 18:30\nVeranstalter: Kellerbühne Puchheim
DTSTAMP:20260419T121050Z
LOCATION:Kellerbühne Puchheim\, Unterbau der Basilika Puchheim\, Gmundner 
 Straße 3\, A-4800 Attnang-Puchheim
SUMMARY:Frau Müller muss weg
END:VEVENT
BEGIN:VEVENT
UID:pretix-kbp-fmmw2026-4893494@karten.kbp.at
DTSTART;TZID=Europe/Vienna:20260624T193000
DTEND;TZID=Europe/Vienna:20260624T203000
DESCRIPTION:Tickets: https://karten.kbp.at/fmmw2026/4893494/\nEinlass: 24.0
 6.2026 18:30\nVeranstalter: Kellerbühne Puchheim
DTSTAMP:20260419T121050Z
LOCATION:Kellerbühne Puchheim\, Unterbau der Basilika Puchheim\, Gmundner 
 Straße 3\, A-4800 Attnang-Puchheim
SUMMARY:Frau Müller muss weg
END:VEVENT
BEGIN:VEVENT
UID:pretix-kbp-fmmw2026-4893495@karten.kbp.at
DTSTART;TZID=Europe/Vienna:20260627T193000
DTEND;TZID=Europe/Vienna:20260627T203000
DESCRIPTION:Tickets: https://karten.kbp.at/fmmw2026/4893495/\nEinlass: 27.0
 6.2026 18:30\nVeranstalter: Kellerbühne Puchheim
DTSTAMP:20260419T121050Z
LOCATION:Kellerbühne Puchheim\, Unterbau der Basilika Puchheim\, Gmundner 
 Straße 3\, A-4800 Attnang-Puchheim
SUMMARY:Frau Müller muss weg
END:VEVENT
BEGIN:VEVENT
UID:pretix-kbp-fmmw2026-4893499@karten.kbp.at
DTSTART;TZID=Europe/Vienna:20260704T193000
DTEND;TZID=Europe/Vienna:20260704T203000
DESCRIPTION:Tickets: https://karten.kbp.at/fmmw2026/4893499/\nEinlass: 04.0
 7.2026 18:30\nVeranstalter: Kellerbühne Puchheim
DTSTAMP:20260419T121050Z
LOCATION:Kellerbühne Puchheim\, Unterbau der Basilika Puchheim\, Gmundner 
 Straße 3\, A-4800 Attnang-Puchheim
SUMMARY:Frau Müller muss weg - Letzte Vorstellung
END:VEVENT
END:VCALENDAR
